BEGIN:VCALENDAR
VERSION:2.0
PRODID:-//RedRock Grille - ECPv6.15.9//NONSGML v1.0//EN
CALSCALE:GREGORIAN
METHOD:PUBLISH
X-WR-CALNAME:RedRock Grille
X-ORIGINAL-URL:https://redrockgrille.com
X-WR-CALDESC:Events for RedRock Grille
REFRESH-INTERVAL;VALUE=DURATION:PT1H
X-Robots-Tag:noindex
X-PUBLISHED-TTL:PT1H
BEGIN:VTIMEZONE
TZID:America/Detroit
BEGIN:DAYLIGHT
TZOFFSETFROM:-0500
TZOFFSETTO:-0400
TZNAME:EDT
DTSTART:20250309T070000
END:DAYLIGHT
BEGIN:STANDARD
TZOFFSETFROM:-0400
TZOFFSETTO:-0500
TZNAME:EST
DTSTART:20251102T060000
END:STANDARD
BEGIN:DAYLIGHT
TZOFFSETFROM:-0500
TZOFFSETTO:-0400
TZNAME:EDT
DTSTART:20260308T070000
END:DAYLIGHT
BEGIN:STANDARD
TZOFFSETFROM:-0400
TZOFFSETTO:-0500
TZNAME:EST
DTSTART:20261101T060000
END:STANDARD
BEGIN:DAYLIGHT
TZOFFSETFROM:-0500
TZOFFSETTO:-0400
TZNAME:EDT
DTSTART:20270314T070000
END:DAYLIGHT
BEGIN:STANDARD
TZOFFSETFROM:-0400
TZOFFSETTO:-0500
TZNAME:EST
DTSTART:20271107T060000
END:STANDARD
END:VTIMEZONE
BEGIN:VEVENT
DTSTART;TZID=America/Detroit:20261215T180000
DTEND;TZID=America/Detroit:20261215T200000
DTSTAMP:20260422T183716
CREATED:20251104T173740Z
LAST-MODIFIED:20251104T173740Z
UID:10000357-1797357600-1797364800@redrockgrille.com
SUMMARY:December Wine School: The Year’s Best Wines
DESCRIPTION:Sip\, savor\, and learn with us at Wine School: The Year’s Best Wines on December 15th! \nIf you haven’t joined us before\, prepare to uncork your new favorite event! Each month\, we explore a new theme and bring in a wine expert to guide you through an evening of discovery. Enjoy 5 wine pours perfectly paired with 3 small plates—as our expert guides you through what makes each wine special. \nTickets are just $55 per person\, which includes wine\, food\, and fun. Seating is limited\, and these events sell out fast\, so grab your spot online today and get ready for a delicious night out! \n2026 Schedule & Themes:\nEvery Month from 6–8 pm\n\nJanuary 20: French vs. American Wines\nFebruary 17: Love is Blind – A Blind Tasting\nMarch 17: Run with the Bulls – Spanish Wines\nApril 21: Homegrown – Domestic Wines\nMay 19: Exploring Sauvignon Blanc\nJune 16: A Toast To Summer\nJuly 21: Grilling Reds & Summer Whites\nAugust 18: Summer in the South of France\nSeptember 15: Pinot Noir Camp\nOctober 20: Passport to Italy\nNovember 17: All of the Bubbles\nDecember 15: The Year’s Best Wines\n\nPlease note: Wine School tickets are available online only and are first-come\, first-served. Tickets are non-refundable but can be transferred to another person. The ticket purchase price is $55 for Wine School + 20% automatic gratuity & 6% tax.
URL:https://redrockgrille.com/happening/december-wine-school-the-years-best-wines/
LOCATION:RedRock Grille\, 4600 Macatawa Legends Blvd.\, Holland\, MI\, 49424\, United States
ATTACH;FMTTYPE=image/png:https://redrockgrille.com/wp-content/uploads/sites/19/2025/11/2026-Wine-School-1080-x-1360-RedRock-scaled.png
ORGANIZER;CN="RedRock Grille":MAILTO:redrockgrille@redwaterrestaurants.com
END:VEVENT
END:VCALENDAR